BEGIN:VCALENDAR
VERSION:2.0
PRODID:-//Cowichan Exhibition - ECPv6.15.20//NONSGML v1.0//EN
CALSCALE:GREGORIAN
METHOD:PUBLISH
X-WR-CALNAME:Cowichan Exhibition
X-ORIGINAL-URL:https://www.cowex.ca
X-WR-CALDESC:Events for Cowichan Exhibition
REFRESH-INTERVAL;VALUE=DURATION:PT1H
X-Robots-Tag:noindex
X-PUBLISHED-TTL:PT1H
BEGIN:VTIMEZONE
TZID:America/Vancouver
BEGIN:DAYLIGHT
TZOFFSETFROM:-0800
TZOFFSETTO:-0700
TZNAME:PDT
DTSTART:20250309T100000
END:DAYLIGHT
BEGIN:STANDARD
TZOFFSETFROM:-0700
TZOFFSETTO:-0800
TZNAME:PST
DTSTART:20251102T090000
END:STANDARD
BEGIN:DAYLIGHT
TZOFFSETFROM:-0800
TZOFFSETTO:-0700
TZNAME:PDT
DTSTART:20260308T100000
END:DAYLIGHT
BEGIN:STANDARD
TZOFFSETFROM:-0700
TZOFFSETTO:-0800
TZNAME:PST
DTSTART:20261101T090000
END:STANDARD
BEGIN:DAYLIGHT
TZOFFSETFROM:-0800
TZOFFSETTO:-0700
TZNAME:PDT
DTSTART:20270314T100000
END:DAYLIGHT
BEGIN:STANDARD
TZOFFSETFROM:-0700
TZOFFSETTO:-0800
TZNAME:PST
DTSTART:20271107T090000
END:STANDARD
END:VTIMEZONE
BEGIN:VEVENT
DTSTART;TZID=America/Vancouver:20260415T083000
DTEND;TZID=America/Vancouver:20260415T133000
DTSTAMP:20260421T012311
CREATED:20260204T191411Z
LAST-MODIFIED:20260204T191411Z
UID:11198-1776241800-1776259800@www.cowex.ca
SUMMARY:Warmland Calligraphers - Pearmine Room
DESCRIPTION:
URL:https://www.cowex.ca/event/warmland-calligraphers-pearmine-room-8/
END:VEVENT
BEGIN:VEVENT
DTSTART;TZID=America/Vancouver:20260415T130000
DTEND;TZID=America/Vancouver:20260415T190000
DTSTAMP:20260421T012311
CREATED:20260204T191519Z
LAST-MODIFIED:20260413T192017Z
UID:11200-1776258000-1776279600@www.cowex.ca
SUMMARY:Private Pickleball Sessions - Mellor Hall
DESCRIPTION:
URL:https://www.cowex.ca/event/private-pickleball-sessions-mellor-hall-40/
END:VEVENT
BEGIN:VEVENT
DTSTART;TZID=America/Vancouver:20260415T190000
DTEND;TZID=America/Vancouver:20260415T210000
DTSTAMP:20260421T012311
CREATED:20260204T193845Z
LAST-MODIFIED:20260204T193845Z
UID:11232-1776279600-1776286800@www.cowex.ca
SUMMARY:Roller Derby - Mellor Hall
DESCRIPTION:
URL:https://www.cowex.ca/event/roller-derby-mellor-hall-34/
END:VEVENT
END:VCALENDAR