BEGIN:VCALENDAR
VERSION:2.0
PRODID:-//Cowichan Exhibition - ECPv6.15.20//NONSGML v1.0//EN
CALSCALE:GREGORIAN
METHOD:PUBLISH
X-WR-CALNAME:Cowichan Exhibition
X-ORIGINAL-URL:https://www.cowex.ca
X-WR-CALDESC:Events for Cowichan Exhibition
REFRESH-INTERVAL;VALUE=DURATION:PT1H
X-Robots-Tag:noindex
X-PUBLISHED-TTL:PT1H
BEGIN:VTIMEZONE
TZID:America/Vancouver
BEGIN:DAYLIGHT
TZOFFSETFROM:-0800
TZOFFSETTO:-0700
TZNAME:PDT
DTSTART:20250309T100000
END:DAYLIGHT
BEGIN:STANDARD
TZOFFSETFROM:-0700
TZOFFSETTO:-0800
TZNAME:PST
DTSTART:20251102T090000
END:STANDARD
BEGIN:DAYLIGHT
TZOFFSETFROM:-0800
TZOFFSETTO:-0700
TZNAME:PDT
DTSTART:20260308T100000
END:DAYLIGHT
BEGIN:STANDARD
TZOFFSETFROM:-0700
TZOFFSETTO:-0800
TZNAME:PST
DTSTART:20261101T090000
END:STANDARD
BEGIN:DAYLIGHT
TZOFFSETFROM:-0800
TZOFFSETTO:-0700
TZNAME:PDT
DTSTART:20270314T100000
END:DAYLIGHT
BEGIN:STANDARD
TZOFFSETFROM:-0700
TZOFFSETTO:-0800
TZNAME:PST
DTSTART:20271107T090000
END:STANDARD
END:VTIMEZONE
BEGIN:VEVENT
DTSTART;VALUE=DATE:20260416
DTEND;VALUE=DATE:20260420
DTSTAMP:20260419T065009
CREATED:20260204T190655Z
LAST-MODIFIED:20260204T190655Z
UID:11196-1776297600-1776643199@www.cowex.ca
SUMMARY:West Coast Amusements Midway and Carnival - Lower Field Parking
DESCRIPTION:This is a West Coast Amusements event ( this is not our fair- our fair is September 18\, 19 and 20)  \nFind out more details on their website here \n 
URL:https://www.cowex.ca/event/west-coast-amusements-midway-and-carnival-lower-field-parking/
END:VEVENT
BEGIN:VEVENT
DTSTART;VALUE=DATE:20260419
DTEND;VALUE=DATE:20260420
DTSTAMP:20260419T065009
CREATED:20260226T211643Z
LAST-MODIFIED:20260226T211643Z
UID:11495-1776556800-1776643199@www.cowex.ca
SUMMARY:Cowichan District Riding Dressage Show - Horse Ring
DESCRIPTION:
URL:https://www.cowex.ca/event/cowichan-district-riding-dressage-show-horse-ring/
END:VEVENT
END:VCALENDAR