BEGIN:VCALENDAR
VERSION:2.0
PRODID:-//Cowichan Exhibition - ECPv6.15.20//NONSGML v1.0//EN
CALSCALE:GREGORIAN
METHOD:PUBLISH
X-WR-CALNAME:Cowichan Exhibition
X-ORIGINAL-URL:https://www.cowex.ca
X-WR-CALDESC:Events for Cowichan Exhibition
REFRESH-INTERVAL;VALUE=DURATION:PT1H
X-Robots-Tag:noindex
X-PUBLISHED-TTL:PT1H
BEGIN:VTIMEZONE
TZID:America/Vancouver
BEGIN:DAYLIGHT
TZOFFSETFROM:-0800
TZOFFSETTO:-0700
TZNAME:PDT
DTSTART:20250309T100000
END:DAYLIGHT
BEGIN:STANDARD
TZOFFSETFROM:-0700
TZOFFSETTO:-0800
TZNAME:PST
DTSTART:20251102T090000
END:STANDARD
BEGIN:DAYLIGHT
TZOFFSETFROM:-0800
TZOFFSETTO:-0700
TZNAME:PDT
DTSTART:20260308T100000
END:DAYLIGHT
BEGIN:STANDARD
TZOFFSETFROM:-0700
TZOFFSETTO:-0800
TZNAME:PST
DTSTART:20261101T090000
END:STANDARD
BEGIN:DAYLIGHT
TZOFFSETFROM:-0800
TZOFFSETTO:-0700
TZNAME:PDT
DTSTART:20270314T100000
END:DAYLIGHT
BEGIN:STANDARD
TZOFFSETFROM:-0700
TZOFFSETTO:-0800
TZNAME:PST
DTSTART:20271107T090000
END:STANDARD
END:VTIMEZONE
BEGIN:VEVENT
DTSTART;TZID=America/Vancouver:20260424T093000
DTEND;TZID=America/Vancouver:20260424T123000
DTSTAMP:20260424T034558
CREATED:20260226T212409Z
LAST-MODIFIED:20260226T212409Z
UID:11505-1777023000-1777033800@www.cowex.ca
SUMMARY:Drop-in Pickleball - Mellor Hall
DESCRIPTION:
URL:https://www.cowex.ca/event/drop-in-pickleball-mellor-hall-71/
END:VEVENT
BEGIN:VEVENT
DTSTART;TZID=America/Vancouver:20260424T150000
DTEND;TZID=America/Vancouver:20260424T180000
DTSTAMP:20260424T034558
CREATED:20260309T171549Z
LAST-MODIFIED:20260309T171549Z
UID:11579-1777042800-1777053600@www.cowex.ca
SUMMARY:OPEN Pickleball - Mellor Hall
DESCRIPTION:
URL:https://www.cowex.ca/event/open-pickleball-mellor-hall-16/
END:VEVENT
END:VCALENDAR